BEGIN:VCALENDAR
VERSION:2.0
PRODID:-//www.astrafemina.org//NONSGML kigkonsult.se iCalcreator 2.30.10//
CALSCALE:GREGORIAN
METHOD:PUBLISH
UID:740f4291-2441-4b81-af09-f063d5080daa
X-WR-CALDESC:WhizGirls is seeking a woman in STEM to speak with girls about
  their STEM journey and introduce the girls to potential STEM fields to co
 nsider. The speaker is being asked to present between 30-45 minutes and a 
 Q&A with the girls will follow. The time slot is two hours\, but the event
  may not take all of the window (it will go no longer).  The audience is g
 irls 9-14. The event will be recorded and repurposed as a 'podcast' to rea
 ch more girls (note: AstraFemina will link to any podcasts from our websit
 e). The speaker series is a collaboration between WhizGirls and the NASA N
 IFTY program.  \n\nASTRAFEMINA SPEAKER: LEE GARVERICK
X-WR-RELCALID:dca13cc7460e064744d1e515336b5b27
X-WR-TIMEZONE:America/Los_Angeles
BEGIN:VTIMEZONE
TZID:America/Los_Angeles
BEGIN:STANDARD
TZNAME:PST
DTSTART:20221106T020000
TZOFFSETFROM:-0700
TZOFFSETTO:-0800
RDATE:20231105T020000
RDATE:20241103T020000
END:STANDARD
BEGIN:DAYLIGHT
TZNAME:PDT
DTSTART:20230312T020000
TZOFFSETFROM:-0800
TZOFFSETTO:-0700
RDATE:20240310T020000
RDATE:20250309T020000
END:DAYLIGHT
END:VTIMEZONE
BEGIN:VEVENT
UID:b4f8601c-2632-41ec-8a89-592fd76f64e3
DTSTAMP:20260421T135848Z
DESCRIPTION:WhizGirls is seeking a woman in STEM to speak with girls about 
 their STEM journey and introduce the girls to potential STEM fields to con
 sider. The speaker is being asked to present between 30-45 minutes and a Q
 &A with the girls will follow. The time slot is two hours\, but the event 
 may not take all of the window (it will go no longer).  The audience is gi
 rls 9-14. The event will be recorded and repurposed as a 'podcast' to reac
 h more girls (note: AstraFemina will link to any podcasts from our website
 ). The speaker series is a collaboration between WhizGirls and the NASA NI
 FTY program.  \n\nASTRAFEMINA SPEAKER: LEE GARVERICK
DTSTART;TZID=America/Los_Angeles:20231011T140000
DTEND;TZID=America/Los_Angeles:20231011T150000
LOCATION:Virtual Event
SUMMARY:WhizGirls/NASA speaker series with Schools
END:VEVENT
END:VCALENDAR
