BEGIN:VCALENDAR
VERSION:2.0
PRODID:-//www.astrafemina.org//NONSGML kigkonsult.se iCalcreator 2.30.10//
CALSCALE:GREGORIAN
METHOD:PUBLISH
UID:9b36f8d2-40c7-483f-9072-d6014acbf75c
X-WR-CALDESC:Girlstart After School is a weekly program for 4th-5th grade g
 irls\, where participants engage in fun\, hands-on STEM activities\, explo
 re different careers\, and get inspired by women in STEM. Guest speakers c
 an introduce participants to their STEM field/career and discuss inspirati
 ons\, challenges\, and projects they've worked on. Usually about 30-40 min
 utes for their presentation and a chance for Q&A with the girls. \n\nOppor
 tunities for Fall 2023: Available Oct-Nov\, in the afternoons (exact times
  are time zone and school dependent). You will arrange the exact day/time 
 of your event with the Girlstart coordinators.  We are aiming to provide a
 t least three AstraFemina speakers per season!\n\n
X-WR-RELCALID:772250feeac434c64aa4d21226f5cd42
X-WR-TIMEZONE:America/Chicago
BEGIN:VTIMEZONE
TZID:America/Chicago
BEGIN:STANDARD
TZNAME:CST
DTSTART:20231105T020000
TZOFFSETFROM:-0500
TZOFFSETTO:-0600
RDATE:20241103T020000
END:STANDARD
BEGIN:DAYLIGHT
TZNAME:CDT
DTSTART:20230312T020000
TZOFFSETFROM:-0600
TZOFFSETTO:-0500
RDATE:20240310T020000
RDATE:20250309T020000
END:DAYLIGHT
END:VTIMEZONE
BEGIN:VEVENT
UID:8c1e226f-933e-48b7-b119-f73e58fc40e5
DTSTAMP:20260423T172008Z
DESCRIPTION:Girlstart After School is a weekly program for 4th-5th grade gi
 rls\, where participants engage in fun\, hands-on STEM activities\, explor
 e different careers\, and get inspired by women in STEM. Guest speakers ca
 n introduce participants to their STEM field/career and discuss inspiratio
 ns\, challenges\, and projects they've worked on. Usually about 30-40 minu
 tes for their presentation and a chance for Q&A with the girls. \n\nOpport
 unities for Fall 2023: Available Oct-Nov\, in the afternoons (exact times 
 are time zone and school dependent). You will arrange the exact day/time o
 f your event with the Girlstart coordinators.  We are aiming to provide at
  least three AstraFemina speakers per season!\n\n
DTSTART;TZID=America/Chicago:20231130T050000
DTEND;TZID=America/Chicago:20231130T050001
LOCATION:This is a virtual event.
SUMMARY:Girlstart After-School STEM Program (pick date in Nov)
END:VEVENT
END:VCALENDAR
